BEGIN:VCALENDAR
VERSION:2.0
PRODID:-//wp-events-plugin.com//7.2.3.1//EN
BEGIN:VEVENT
UID:121@ips-cbse.com
DTSTART:20260422T183000Z
DTEND:20260422T183000Z
DTSTAMP:20260421T033346Z
URL:https://ips-cbse.com/events/world-book-day-eng-paper-reading-vi-viii-c
 olouring-competition-ankur/
SUMMARY:WORLD BOOK DAY ENG. PAPER READING (VI-VIII) COLOURING COMPETITION (
 ANKUR)
DESCRIPTION:
END:VEVENT
END:VCALENDAR