BEGIN:VCALENDAR
VERSION:2.0
PRODID:-//wp-events-plugin.com//7.2.3.1//EN
BEGIN:VEVENT
UID:122@ips-cbse.com
DTSTART:20260423T183000Z
DTEND:20260423T183000Z
DTSTAMP:20260421T033417Z
URL:https://ips-cbse.com/events/subjetc-enrichment/
SUMMARY:SUBJETC ENRICHMENT
DESCRIPTION:
END:VEVENT
END:VCALENDAR