BEGIN:VCALENDAR
VERSION:2.0
PRODID:-//wp-events-plugin.com//7.2.3.1//EN
BEGIN:VEVENT
UID:124@ips-cbse.com
DTSTART:20260428T183000Z
DTEND:20260428T183000Z
DTSTAMP:20260421T033520Z
URL:https://ips-cbse.com/events/international-dance-day-inter-house-dance-
 competition-i-ii/
SUMMARY:INTERNATIONAL DANCE DAY - INTER-HOUSE DANCE COMPETITION (I-II)
DESCRIPTION:
END:VEVENT
END:VCALENDAR