BEGIN:VCALENDAR
VERSION:2.0
PRODID:-//wp-events-plugin.com//7.2.3.1//EN
BEGIN:VEVENT
UID:123@ips-cbse.com
DTSTART:20260424T183000Z
DTEND:20260424T183000Z
DTSTAMP:20260421T033438Z
URL:https://ips-cbse.com/events/freshers-day-ankur/
SUMMARY:FRESHER'S DAY (ANKUR)
DESCRIPTION:
END:VEVENT
END:VCALENDAR