BEGIN:VCALENDAR
VERSION:2.0
PRODID:-//wp-events-plugin.com//7.2.3.1//EN
BEGIN:VEVENT
UID:125@ips-cbse.com
DTSTART:20260429T183000Z
DTEND:20260429T183000Z
DTSTAMP:20260421T033557Z
URL:https://ips-cbse.com/events/fraduation-ceremony-iii-vi/
SUMMARY:FRADUATION CEREMONY (III & VI)
DESCRIPTION:
END:VEVENT
END:VCALENDAR