BEGIN:VCALENDAR
VERSION:2.0
PRODID:-//wp-events-plugin.com//7.2.3.1//EN
BEGIN:VEVENT
UID:120@ips-cbse.com
DTSTART:20260421T183000Z
DTEND:20260421T183000Z
DTSTAMP:20260421T033244Z
URL:https://ips-cbse.com/events/earth-day-poster-making-vi-viii-slogan-wri
 ting-ix-x-best-out-o-f-waste-craft-iii/
SUMMARY:EARTH DAY POSTER MAKING (VI-VIII) SLOGAN WRITING (IX-X) BEST OUT O 
 F WASTE CRAFT (III)
DESCRIPTION:
END:VEVENT
END:VCALENDAR